BEGIN:VCALENDAR
VERSION:2.0
PRODID:-//damenschwimmverein//NONSGML kigkonsult.se iCalcreator 2.30.10//
CALSCALE:GREGORIAN
METHOD:PUBLISH
UID:bdd2cd33-2805-4901-a719-3a2d92d365e7
X-WR-CALNAME:iCagenda
X-WR-CALDESC:Event Management Extension for Joomla!
X-WR-RELCALID:3E26604A-50F4-4449-8B3E-E4F4932D05B5
X-WR-TIMEZONE:UTC
BEGIN:VTIMEZONE
TZID:UTC
END:VTIMEZONE
BEGIN:VEVENT
UID:8e63a8ab-2b48-4b4f-8042-93f24c8c4a07
DTSTAMP:20260423T224855Z
CATEGORIES:Termine Südbad
CLASS:PUBLIC
DESCRIPTION;ALTREP="CID:<FFFF__=0ABBE548DFE235B58f9e8a93d@coffeebean.com>":
 &nbsp\;SüdB-BR-26-02 Brust mit der Möglichkeit zum Abzeichen Bronze ab 6 J
 .\n10 x Dienstags 18:00-18.50 Uhr (nicht in den bayerischen Schulferien)\n
 \nKurskosten&nbsp\; 95.- Euro \nVoraussetzung: Mitgliedschaft im Damen-Sch
 wimm-Verein München e.V.&nbsp\;\n\n\nlink zu den Mitgliedsbeiträgen\n\nTra
 iner/in:&nbsp\;&nbsp\;&nbsp\;Simone Keppler-Waldmann\n\n&nbsp\;Kursinhalte
  / Lernziele:&nbsp\;&nbsp\;Das Training findet im großen 25 m Schwimmbecke
 n statt.&nbsp\;\nDieser Kurs spricht Teilnehmer an\, die sich in folgenden
  Bereichen verbessern wollen:\n\n\nErlernen der wettkampfkonformen Brustte
 chnik&nbsp\;&nbsp\;(Arme\, Beine und erkennbar ins Wasser ausatmen)\n\n\nV
 erfeinerung der Rückentechnik\n\n\nVerfeinerung der Kraultechnik\n\n\nEins
 tieg ins Ausdauerschwimmen (längere Strecken schwimmen ohne zu Ermüden)\n
 \n\nStartsprung\n\n\nStrecken- und Tieftauchen\n\n\n&nbsp\;Besonderheiten:
 Das Ablegen des Schwimmabzeichens Bronze ist in diesem Kurs kostenfrei mög
 lich.Die Teilnehmer bringen Ihre Schwimm-Utensilien selbst mit.Ausgangsvor
 aussetzungen für diesen Kurs:Voraussetzung für die Teilnahme am Bronze Kur
 s ist die erfolgreiche Teilnahme am Seehund Trixi /Seeräuber Kurs.&nbsp\;
 \nNotwendige Ausrüstung:  &nbsp\;\nBadeanzug (bitte nicht Bikini) bzw. Bad
 ehose&nbsp\;Badekappe (ideal Silikon)\nBadehandtuch\nSchwimmbrille\nKurzfl
 ossen\n&nbsp\;Die Kurse finden erst ab 5 Teilnehmern statt!\nZur Anmeldung
  bitte oben auf&nbsp\; 'zur Kursbuchung hier klicken' gehen\, um die Anmel
 dung für den Schwimmkurs durchzuführen.&nbsp\;\nFragen&nbsp\;kurs@damensch
 wimmverein.de&nbsp\;&nbsp\;Kurzfristige Verschiebungen&nbsp\;Aufgrund von 
 äußeren Umständen\, wie z.B. Bäderschließungen\, Vorgaben der Stadt Münche
 n usw. können sich Termine kurzfristig ändern. Sie werden darüber in unser
 er Vereinsapp informiert. Bitte laden Sie sich die App herunter und regist
 rieren sie sich.&nbsp\;Zuschauer/Begleitpersonen&nbsp\;sind zwar möglich\,
  lenken aber die Kinder zu sehr ab. Wir wünschen uns deshalb\, dass sich d
 ie Eltern außerhalb des Trainingsbereiches aufhalten und nicht Zuschauer b
 eim Training sind.\n Ort Südbad der Stadtwerke München\n\n\n\n\nDie&nbsp\;
 Termine&nbsp\;sind bei Terminüberschneidungen\, Krankheit oder Nichtgefall
 en&nbsp\;nicht stornier- oder nachholbar. Bitte kommen Sie pünktlich.\n\n
 \n\n\nKursgebühr bei Buchung fällig - Nutzen Sie bitte paypal\nAlle Plätze
  voll? Hier geht´s zur Warteliste.\n&nbsp\;
DTSTART:20260428T180000Z
DTEND:20260714T185000Z
GEO:+48.116417;+11.544517
LOCATION:Südbad Städtisches Schwimmbad
ORGANIZER;CN=:kurs@damenschwimmverein.de
SEQUENCE:1
SUMMARY:SÜDB-BR-26-02   Brust  Bronze Abzeichen ab 6 J. (2)
TRANSP:OPAQUE
URL:https://www.damenschwimmverein.de/abteilungen/schwimmen/schwimmkurse/ku
 rs-termine/176-suedb-br-26-02-brust-bronze-abzeichen-ab-6-j-2
END:VEVENT
END:VCALENDAR
