BEGIN:VCALENDAR
VERSION:2.0
PRODID:-//damenschwimmverein//NONSGML kigkonsult.se iCalcreator 2.30.10//
CALSCALE:GREGORIAN
METHOD:PUBLISH
UID:2dd4261e-7708-4e1f-bb2c-6861a6abc74f
X-WR-CALNAME:iCagenda
X-WR-CALDESC:Event Management Extension for Joomla!
X-WR-RELCALID:3E26604A-50F4-4449-8B3E-E4F4932D05B5
X-WR-TIMEZONE:UTC
BEGIN:VTIMEZONE
TZID:UTC
END:VTIMEZONE
BEGIN:VEVENT
UID:27dda7cd-241b-4bfc-807d-c1d8e84649d9
DTSTAMP:20260420T065230Z
CATEGORIES:Artistic Swimming DSV Lehrgänge Nationalmannschaft
CLASS:PUBLIC
DESCRIPTION:
DTSTART:20260227T020900Z
DTEND:20260303T020900Z
GEO:+50.776352;+6.083862
LOCATION:
ORGANIZER:
SEQUENCE:1
SUMMARY:26 DSV 02 NK2 U15 Lehrgang Kienbaum
TRANSP:OPAQUE
URL:https://www.damenschwimmverein.de/component/icagenda/141-26-dsv-02-nk2-
 u15-lehrgang-kienbaum
END:VEVENT
END:VCALENDAR
