BEGIN:VCALENDAR
VERSION:2.0
PRODID:-//damenschwimmverein//NONSGML kigkonsult.se iCalcreator 2.30.10//
CALSCALE:GREGORIAN
METHOD:PUBLISH
UID:9034169c-a553-439b-b29f-506101772dfc
X-WR-CALNAME:iCagenda
X-WR-CALDESC:Event Management Extension for Joomla!
X-WR-RELCALID:3E26604A-50F4-4449-8B3E-E4F4932D05B5
X-WR-TIMEZONE:UTC
BEGIN:VTIMEZONE
TZID:UTC
END:VTIMEZONE
BEGIN:VEVENT
UID:9d0f37eb-547e-4406-9a1f-d2f5fae93220
DTSTAMP:20260420T091052Z
CATEGORIES:Artistic Swimming DSV Lehrgänge Nationalmannschaft
CLASS:PUBLIC
DESCRIPTION:
DTSTART:20260304T021900Z
DTEND:20260308T021900Z
GEO:00;0
LOCATION:
ORGANIZER:
SEQUENCE:1
SUMMARY:26 DSV NK1 Lehrgang
TRANSP:OPAQUE
URL:https://www.damenschwimmverein.de/component/icagenda/151-26-dsv-nk1-leh
 rgang-6
END:VEVENT
END:VCALENDAR
