BEGIN:VCALENDAR
VERSION:2.0
PRODID:-//damenschwimmverein//NONSGML kigkonsult.se iCalcreator 2.30.10//
CALSCALE:GREGORIAN
METHOD:PUBLISH
UID:b352683c-dfb6-4081-aa58-87026168fc18
X-WR-CALNAME:iCagenda
X-WR-CALDESC:Event Management Extension for Joomla!
X-WR-RELCALID:3E26604A-50F4-4449-8B3E-E4F4932D05B5
X-WR-TIMEZONE:UTC
BEGIN:VTIMEZONE
TZID:UTC
END:VTIMEZONE
BEGIN:VEVENT
UID:a85ff162-7380-49e6-b5f7-e677f8d88a7e
DTSTAMP:20260423T063151Z
CATEGORIES:Schwimmkurse München
CLASS:PUBLIC
DESCRIPTION;ALTREP="CID:<FFFF__=0ABBE548DFE235B58f9e8a93d@coffeebean.com>":
 &nbsp\; Erwachsene&nbsp\;SCHWIMMTECHNIK Kraul I -&nbsp\;\n\n\n\n\n\n\n\nSc
 hwimmtechnik I Kraulen für Anfänger\n\n\n&nbsp\;6x 50 min\nPreis für 6 Kur
 sabende 120.- € (für Nichtmitglieder)\n&nbsp\; &nbsp\; &nbsp\; &nbsp\; &nb
 sp\; &nbsp\; &nbsp\; &nbsp\; &nbsp\; &nbsp\; &nbsp\; &nbsp\; &nbsp\; &nbsp
 \; &nbsp\; &nbsp\; &nbsp\; &nbsp\; &nbsp\; &nbsp\; &nbsp\; &nbsp\; &nbsp\;
  &nbsp\;70.- € (für Mitglieder)&nbsp\; &nbsp\; &nbsp\; &nbsp\; &nbsp\; &nb
 sp\; &nbsp\; &nbsp\; &nbsp\; &nbsp\; &nbsp\; &nbsp\; &nbsp\;&nbsp\;\nKurst
 ermine:\n05.03.26\n12.03.26\n19.03.26\n26.03.26\n16.04.26\n23.04.26\njewei
 ls Donnerstag 19:00-20:00 Uhr \n\n\n\nTrainerin : Doerte MoellerTrainingso
 rt: NordbadKontakt:&nbsp\;kurs@damenschwimmverein.de&nbsp\;\nKursziele\n\n
 Erlernen der Schwimmtechnik Kraul\nBefähigung 50m Kraul schwimmen\n\n\n\n
 \n\n\n\n\n\n\nKursinhalte&nbsp\;- &nbsp\;Erlernen der Schwimmtechnik Kraul
  unter Anwendung verschiedener Technischer Übungen- &nbsp\;Training der A
 usdauer\nVoraussetzungen - &nbsp\;Schwimmfähigkeit&nbsp\; 50m Brust Schwim
 men-&nbsp\; gut sitzende Kurzflossen\n\n\n\n\n\n\n\n\n\n(Für nicht in Ansp
 ruch genommene Kursstunden kann leider&nbsp\;keine&nbsp\;Erstattung erfolg
 en)\nKurs findet ab 5 Teilnehmer*innen statt.\n\n\n\n\n&nbsp\;
DTSTART:20260305T190000Z
DTEND:20260423T200000Z
GEO:+48.160145;+11.564419
LOCATION:Nordbad
ORGANIZER;CN=:kurs@damenschwimmverein.de
SEQUENCE:1
SUMMARY:NORDB-EWK1- 26-01  Schwimmkurs KRAULEN für Anfänger - Erwachsen
TRANSP:OPAQUE
URL:https://www.damenschwimmverein.de/component/icagenda/170-nordb-ewk1-26-
 01-schwimmkurs-kraulen-fuer-anfaenger-erwachsen
END:VEVENT
END:VCALENDAR
