BEGIN:VCALENDAR
VERSION:2.0
PRODID:-//damenschwimmverein//NONSGML kigkonsult.se iCalcreator 2.30.10//
CALSCALE:GREGORIAN
METHOD:PUBLISH
UID:49ee66b7-6dc9-4ea0-a2ee-89de1c045e33
X-WR-CALNAME:iCagenda
X-WR-CALDESC:Event Management Extension for Joomla!
X-WR-RELCALID:3E26604A-50F4-4449-8B3E-E4F4932D05B5
X-WR-TIMEZONE:UTC
BEGIN:VTIMEZONE
TZID:UTC
END:VTIMEZONE
BEGIN:VEVENT
UID:557f9c5d-5850-4935-8570-5d786ca2cebc
DTSTAMP:20260425T114821Z
CATEGORIES:Veranstaltungen Verbände
CLASS:PUBLIC
DESCRIPTION:
DTSTART:20250926T140000Z
DTEND:20250928T140100Z
GEO:+50.110645;+8.682092
LOCATION:Frankfurt
ORGANIZER:
SEQUENCE:1
SUMMARY:25 DSV A/B Trainer FOBI
TRANSP:OPAQUE
URL:https://www.damenschwimmverein.de/component/icagenda/73-25-dsv-a-b-trai
 ner-fobi
END:VEVENT
END:VCALENDAR
