BEGIN:VCALENDAR
VERSION:2.0
PRODID:-//damenschwimmverein//NONSGML kigkonsult.se iCalcreator 2.30.10//
CALSCALE:GREGORIAN
METHOD:PUBLISH
UID:86be21da-5fa6-4dc6-9587-371d54b6141b
X-WR-CALNAME:iCagenda
X-WR-CALDESC:Event Management Extension for Joomla!
X-WR-RELCALID:3E26604A-50F4-4449-8B3E-E4F4932D05B5
X-WR-TIMEZONE:UTC
BEGIN:VTIMEZONE
TZID:UTC
END:VTIMEZONE
BEGIN:VEVENT
UID:1566806c-4cba-4512-ac4a-18034a4bc2e1
DTSTAMP:20260425T232655Z
CATEGORIES:Vereinsveranstaltungen
CLASS:PUBLIC
DESCRIPTION;ALTREP="CID:<FFFF__=0ABBE548DFE235B58f9e8a93d@coffeebean.com>":
 \n&nbsp\;
DTSTART:20250523T190000Z
DTEND:20250527T220000Z
GEO:+48.150909;+11.593909
LOCATION:
ORGANIZER:
SEQUENCE:1
SUMMARY:25 NUANCE Fotoausstellung
TRANSP:OPAQUE
URL:https://www.damenschwimmverein.de/component/icagenda/93-25-fotoausstell
 ung-foerderverein-kickoff-veranstaltun-2
END:VEVENT
END:VCALENDAR
