BEGIN:VCALENDAR
VERSION:2.0
PRODID:-//damenschwimmverein//NONSGML kigkonsult.se iCalcreator 2.30.10//
CALSCALE:GREGORIAN
METHOD:PUBLISH
UID:dc096979-c9ac-44d4-82c1-44480fc38357
X-WR-CALNAME:iCagenda
X-WR-CALDESC:Event Management Extension for Joomla!
X-WR-RELCALID:3E26604A-50F4-4449-8B3E-E4F4932D05B5
X-WR-TIMEZONE:UTC
BEGIN:VTIMEZONE
TZID:UTC
END:VTIMEZONE
BEGIN:VEVENT
UID:43df7597-8a57-459a-958f-191d6a8eea50
DTSTAMP:20260421T102434Z
CATEGORIES:Artistic Swimming Wettkämpfe International
CLASS:PUBLIC
DESCRIPTION:
DTSTART:20260704T021500Z
DTEND:20260712T021500Z
GEO:+48.174896;+11.550016
LOCATION:
ORGANIZER:
SEQUENCE:1
SUMMARY:26 European Junior Championship München
TRANSP:OPAQUE
URL:https://www.damenschwimmverein.de/verein/termine/145-26-european-junior
 -championship
END:VEVENT
END:VCALENDAR
