BEGIN:VCALENDAR
VERSION:2.0
PRODID:-//damenschwimmverein//NONSGML kigkonsult.se iCalcreator 2.30.10//
CALSCALE:GREGORIAN
METHOD:PUBLISH
UID:697dd6f8-4877-4df2-96d1-76a63f82b0b8
X-WR-CALNAME:iCagenda
X-WR-CALDESC:Event Management Extension for Joomla!
X-WR-RELCALID:3E26604A-50F4-4449-8B3E-E4F4932D05B5
X-WR-TIMEZONE:UTC
BEGIN:VTIMEZONE
TZID:UTC
END:VTIMEZONE
BEGIN:VEVENT
UID:251f718b-46c2-4444-bd3f-9c9990c122eb
DTSTAMP:20260426T003012Z
CATEGORIES:Artistic Swimming Wettkämpfe International
CLASS:PUBLIC
DESCRIPTION;ALTREP="CID:<FFFF__=0ABBE548DFE235B58f9e8a93d@coffeebean.com>":
 6.3. Meldeschluss !!
DTSTART:20260320T172500Z
DTEND:20260322T172500Z
GEO:+49.192245;+16.611338
LOCATION:Grün
ORGANIZER:
SEQUENCE:1
SUMMARY:Czech Republic Artistic Swimming Open Championships 2026 Brno March
  20. -22.3. Categories: Youth\, Senior
TRANSP:OPAQUE
URL:https://www.damenschwimmverein.de/verein/termine/165-czech-republic-art
 istic-swimming-open-championships-2026-brno-march-20-22-3-categories-youth
 -senior
END:VEVENT
END:VCALENDAR
