BEGIN:VCALENDAR
VERSION:2.0
PRODID:-//damenschwimmverein//NONSGML kigkonsult.se iCalcreator 2.30.10//
CALSCALE:GREGORIAN
METHOD:PUBLISH
UID:c166e946-fa94-4359-b0a9-ffd97c1a78c3
X-WR-CALNAME:iCagenda
X-WR-CALDESC:Event Management Extension for Joomla!
X-WR-RELCALID:3E26604A-50F4-4449-8B3E-E4F4932D05B5
X-WR-TIMEZONE:UTC
BEGIN:VTIMEZONE
TZID:UTC
END:VTIMEZONE
BEGIN:VEVENT
UID:f1b73f09-ef8f-4298-8da9-660b0141ef0a
DTSTAMP:20260424T044309Z
CATEGORIES:Termine Südbad
CLASS:PUBLIC
DESCRIPTION;ALTREP="CID:<FFFF__=0ABBE548DFE235B58f9e8a93d@coffeebean.com>":
 &nbsp\;SüdB-TR-26-02 Kraul Grundlagen Seehund Trixi ab 5 J.\n10 x Dienstag
 s 18:00-18.50 Uhr (nicht in den bayerischen Schulferien)\nKurskosten&nbsp\
 ; 95.- Euro ( für Mitglieder)\nVorraussetzung Mitgliedschaft im Damen-Schw
 imm-Verein München e.V.\n\n\n\nlink zum Mitgliedsantrag\nlink zu den Mitgl
 iedsbeiträgen\n\n\n\nTrainer/in:&nbsp\;&nbsp\;&nbsp\;Simone Keppler- Waldm
 ann\nKursinhalte / Lernziele:&nbsp\;\nDas Training findet im großen 25 m S
 chwimmbecken statt. Dieser Kurs spricht Teilnehmer an\, die sich in folgen
 den Bereichen verbessern wollen:&nbsp\;\n\nErlernen der Kraultechnik\nFrei
 es Schwimmen über 100 Meter (mindestens 50 m in Kraullage)\nStreckentauche
 n 3 Meter\nGegenstand aus tiefem Wasser heraufholen&nbsp\;\nKopfsprung\nOr
 ientierung im tiefen Wasser\n\n&nbsp\;Besonderheiten:&nbsp\;Das Ablegen de
 s Schwimmabzeichens Seehund Trixie ist in diesem Kurs kostenfrei möglich.&
 nbsp\;Ausgangsvoraussetzungen für diesen Kurs:&nbsp\;Voraussetzung für die
  Teilnahme am Seehund Trixie-Kurs ist die erfolgreiche Teilnahme am Seepfe
 rdchen Kurs.&nbsp\;\nNotwendige Ausrüstung:  &nbsp\;• Badeanzug (bitte nic
 ht Bikini) bzw. Badehose&nbsp\;• Badekappe (ideal Silikon)&nbsp\;• Badehan
 dtuch&nbsp\;\n• Kurzflossen\nDie Kurse finden erst ab 5 Teilnehmern statt!
 \nbitte oben auf&nbsp\; 'zur Kursbuchung hier klicken' gehen\, um die Anme
 ldung für den Schwimmkurs durchzuführen.&nbsp\;\n&nbsp\;Fragen&nbsp\;kurs@
 damenschwimmverein.de&nbsp\;&nbsp\;Kurzfristige Verschiebungen&nbsp\;Aufgr
 und von äußeren Umständen\, wie z.B. Bäderschließungen\, Vorgaben der Stad
 t München usw. können sich Termine kurzfristig ändern. Sie werden darüber 
 in unserer Vereinsapp informiert. Bitte laden Sie sich die App herunter un
 d registrieren sie sich.&nbsp\;Zuschauer/Begleitpersonen&nbsp\;sind zwar m
 öglich\, lenken aber die Kinder zu sehr ab. Wir wünschen uns deshalb\, das
 s sich die Eltern außerhalb des Trainingsbereiches aufhalten und nicht Zus
 chauer beim Training sind.\n Ort Südbad der Stadtwerke München\n\n\n\n\n\n
 \nDie&nbsp\;Termine&nbsp\;sind bei Terminüberschneidungen\, Krankheit oder
  Nichtgefallen&nbsp\;nicht stornier- oder nachholbar. Bitte kommen Sie pün
 ktlich.\n\n\n\n\nKursgebühr bei Buchung fällig - Nutzen Sie bitte paypal\n
 \nAlle Plätze voll? Hier geht´s zur Warteliste.\n&nbsp\;
DTSTART:20260428T170000Z
DTEND:20260714T175000Z
GEO:+48.116417;+11.544517
LOCATION:Südbad Städtisches Schwimmbad
ORGANIZER;CN=:kurs@damenschwimmverein.de
SEQUENCE:1
SUMMARY:SÜDB-TR-26-002  Trixie - Kraul Abzeichen Seehund Trixi  ab 5 J. (1)
TRANSP:OPAQUE
URL:https://www.damenschwimmverein.de/verein/termine/173-suedb-tr-26-002-tr
 ixie-kraul-abzeichen-seehund-trixi-ab-5-j-1
END:VEVENT
END:VCALENDAR
