BEGIN:VCALENDAR
VERSION:2.0
PRODID:-//damenschwimmverein//NONSGML kigkonsult.se iCalcreator 2.30.10//
CALSCALE:GREGORIAN
METHOD:PUBLISH
UID:5433816e-33c4-4248-a82c-36f1ce567907
X-WR-CALNAME:iCagenda
X-WR-CALDESC:Event Management Extension for Joomla!
X-WR-RELCALID:3E26604A-50F4-4449-8B3E-E4F4932D05B5
X-WR-TIMEZONE:UTC
BEGIN:VTIMEZONE
TZID:UTC
END:VTIMEZONE
BEGIN:VEVENT
UID:b524915d-3a2e-49cd-aede-990659bece28
DTSTAMP:20260423T184514Z
CATEGORIES:Termine Südbad
CLASS:PUBLIC
DESCRIPTION;ALTREP="CID:<FFFF__=0ABBE548DFE235B58f9e8a93d@coffeebean.com>":
 &nbsp\;SüdB-SP-26-2 Rückengrundlagen Seepferchen ab 5 Jahre&nbsp\;\n10 x D
 ienstags von 17:00-17.50 Uhr (außer in den bayerischen Schulferien)\nKursk
 osten&nbsp\; 95.- Euro (für Mitglieder)\nVorraussetzung Mitgliedschaft im 
 Damen-Schwimm-Verein-München e.V.\n\n&nbsp\;\n\n\nlink zu den Mitgliedsbei
 trägen\n\n\n\nTrainer/in:&nbsp\;&nbsp\;&nbsp\;Simone Keppler-Waldmann\nKur
 sinhalte / Lernziele:&nbsp\; Das Training findet im warmen Lehrschwimmbeck
 en statt.\n\nErlernen der Rückentechnik\nSchwimmen in Rückenlage\nTauchen 
 und Springen vom Beckenrand\nKenntnis von Baderegeln\nKurzflossen\n\n&nbsp
 \;Ziel :&nbsp\;Das Ablegen des Schwimmabzeichens Seepferdchen ist in diese
 m Kurs kostenfrei möglich.&nbsp\;\nVorraussetzungen:&nbsp\;&nbsp\;Die erfo
 lgreiche Teilnahme am Frosch Kurs. Sollte ein Kind „quereinsteigen“ wollen
 \, bieten wir ein Vorschwimmen mit Kursempfehlung an.\nNotwendige Ausrüstu
 ng:  &nbsp\;• Badeanzug (bitte nicht Bikini) bzw. Badehose&nbsp\;• Badekap
 pe (ideal Silikon)&nbsp\;• Schwimmbrille&nbsp\;• Badehandtuch&nbsp\;\nOrga
 nisatorischer Ablauf der Anmeldung:&nbsp\;\nbitte oben auf&nbsp\; 'zur Kur
 sbuchung hier klicken' gehen\, um die Anmeldung für den Schwimmkurs durchz
 uführen.&nbsp\;\n&nbsp\;Fragen&nbsp\;kurs@damenschwimmverein.de&nbsp\;&nbs
 p\;Kurzfristige Verschiebungen&nbsp\;Aufgrund von äußeren Umständen\, wie 
 z.B. Bäderschließungen\, Vorgaben der Stadt München usw. können sich Termi
 ne kurzfristig ändern. Sie werden darüber in unserer Vereinsapp informiert
 . Bitte laden Sie sich die App herunter und registrieren sie sich.&nbsp\;Z
 uschauer/Begleitpersonen&nbsp\;sind zwar möglich\, lenken aber die Kinder 
 zu sehr ab. Wir wünschen uns deshalb\, dass sich die Eltern außerhalb des 
 Trainingsbereiches aufhalten und nicht Zuschauer beim Training sind.\n Ort
  Südbad der Stadtwerke München\n\n\n\n\n\n\nDie&nbsp\;Termine&nbsp\;sind b
 ei Terminüberschneidungen\, Krankheit oder Nichtgefallen&nbsp\;nicht storn
 ier- oder nachholbar. Bitte kommen Sie pünktlich.\n\n\n\n\nKursgebühr bei 
 Buchung fällig - Nutzen Sie bitte paypal\n\nAlle Plätze voll? Hier geht´s 
 zur Warteliste.\n&nbsp\;
DTSTART:20260428T170000Z
DTEND:20260714T175000Z
GEO:+48.116417;+11.544517
LOCATION:Südbad Städtisches Schwimmbad
ORGANIZER;CN=:kurs@damenschwimmverein.de
SEQUENCE:1
SUMMARY:SÜDB-SP-26-02  Seepferdchenkurs Grundl. Rücken ab 5 J.
TRANSP:OPAQUE
URL:https://www.damenschwimmverein.de/verein/termine/174-suedb-sp-26-02-see
 pferdchenkurs-grundl-ruecken-ab-5-j
END:VEVENT
END:VCALENDAR
