BEGIN:VCALENDAR
VERSION:2.0
PRODID:-//damenschwimmverein//NONSGML kigkonsult.se iCalcreator 2.30.10//
CALSCALE:GREGORIAN
METHOD:PUBLISH
UID:2cc9af16-9cf1-4f82-b002-ab2c4a1790dc
X-WR-CALNAME:iCagenda
X-WR-CALDESC:Event Management Extension for Joomla!
X-WR-RELCALID:3E26604A-50F4-4449-8B3E-E4F4932D05B5
X-WR-TIMEZONE:UTC
BEGIN:VTIMEZONE
TZID:UTC
END:VTIMEZONE
BEGIN:VEVENT
UID:e50145c6-f085-4760-a10a-a16bd3d8b7df
DTSTAMP:20260422T085239Z
CATEGORIES:Artistic Swimming Wettkampf National
CLASS:PUBLIC
DESCRIPTION:
DTSTART:20240712T155500Z
DTEND:20240714T155600Z
GEO:+48.140194;+11.403859
LOCATION:Freiham
ORGANIZER:
SEQUENCE:1
SUMMARY:Isar Open 2024
TRANSP:OPAQUE
URL:https://www.damenschwimmverein.de/verein/termine/46-isar-open-2024
END:VEVENT
END:VCALENDAR
