BEGIN:VCALENDAR
VERSION:2.0
PRODID:-//damenschwimmverein//NONSGML kigkonsult.se iCalcreator 2.30.10//
CALSCALE:GREGORIAN
METHOD:PUBLISH
UID:668e9452-1015-43f9-b2cc-fb7333e485e5
X-WR-CALNAME:iCagenda
X-WR-CALDESC:Event Management Extension for Joomla!
X-WR-RELCALID:3E26604A-50F4-4449-8B3E-E4F4932D05B5
X-WR-TIMEZONE:UTC
BEGIN:VTIMEZONE
TZID:UTC
END:VTIMEZONE
BEGIN:VEVENT
UID:3a9af479-fd7f-4a7b-83c5-df092d400bd0
DTSTAMP:20260420T084053Z
CATEGORIES:Artistic Swimming Wettkämpfe International
CLASS:PUBLIC
DESCRIPTION:
DTSTART:20250626T135600Z
DTEND:20250629T135600Z
GEO:00;0
LOCATION:Budapest
ORGANIZER:
SEQUENCE:1
SUMMARY:Hungarian OPEN - NK2 Massnahme
TRANSP:OPAQUE
URL:https://www.damenschwimmverein.de/verein/termine/71-hungarian-open-nk2-
 massnahme
END:VEVENT
END:VCALENDAR
