BEGIN:VCALENDAR
VERSION:2.0
PRODID:-//damenschwimmverein//NONSGML kigkonsult.se iCalcreator 2.30.10//
CALSCALE:GREGORIAN
METHOD:PUBLISH
UID:48a5d47f-a86c-4dbe-ae81-d0b75674a6cc
X-WR-CALNAME:iCagenda
X-WR-CALDESC:Event Management Extension for Joomla!
X-WR-RELCALID:3E26604A-50F4-4449-8B3E-E4F4932D05B5
X-WR-TIMEZONE:UTC
BEGIN:VTIMEZONE
TZID:UTC
END:VTIMEZONE
BEGIN:VEVENT
UID:d2c0252d-0913-4326-99f1-dcf370b69c27
DTSTAMP:20260426T034701Z
CATEGORIES:Artistic Swimming DSV Lehrgänge Nationalmannschaft
CLASS:PUBLIC
DESCRIPTION:
DTSTART:20250709T000000Z
DTEND:20250712T000000Z
GEO:00;0
LOCATION:nn
ORGANIZER:
SEQUENCE:1
SUMMARY:25-13 DSV NM-Team UWV  WM
TRANSP:OPAQUE
URL:https://www.damenschwimmverein.de/verein/termine/72-25-13-dsv-nm-team-u
 wv-wm
END:VEVENT
END:VCALENDAR
