BEGIN:VCALENDAR
VERSION:2.0
PRODID:-//damenschwimmverein//NONSGML kigkonsult.se iCalcreator 2.30.10//
CALSCALE:GREGORIAN
METHOD:PUBLISH
UID:60cb02d0-3dad-4cd8-b0df-6cc9e83b3379
X-WR-CALNAME:iCagenda
X-WR-CALDESC:Event Management Extension for Joomla!
X-WR-RELCALID:3E26604A-50F4-4449-8B3E-E4F4932D05B5
X-WR-TIMEZONE:UTC
BEGIN:VTIMEZONE
TZID:UTC
END:VTIMEZONE
BEGIN:VEVENT
UID:b833d447-4a0e-471e-bb06-380dfb19f8cc
DTSTAMP:20260426T011659Z
CATEGORIES:Artistic Swimming Wettkampf National
CLASS:PUBLIC
DESCRIPTION:
DTSTART:20251002T140200Z
DTEND:20251005T140200Z
GEO:00;0
LOCATION:Kienbaum
ORGANIZER:
SEQUENCE:1
SUMMARY:25 DSV Sichtung
TRANSP:OPAQUE
URL:https://www.damenschwimmverein.de/verein/termine/74-dsv-sichtung
END:VEVENT
END:VCALENDAR
