BEGIN:VCALENDAR
VERSION:2.0
PRODID:-//damenschwimmverein//NONSGML kigkonsult.se iCalcreator 2.30.10//
CALSCALE:GREGORIAN
METHOD:PUBLISH
UID:b19328d3-03cd-4738-a9c4-6e170dea844d
X-WR-CALNAME:iCagenda
X-WR-CALDESC:Event Management Extension for Joomla!
X-WR-RELCALID:3E26604A-50F4-4449-8B3E-E4F4932D05B5
X-WR-TIMEZONE:UTC
BEGIN:VTIMEZONE
TZID:UTC
END:VTIMEZONE
BEGIN:VEVENT
UID:e105e76e-3a14-4a73-bc56-a35b2cc85326
DTSTAMP:20260421T180416Z
CATEGORIES:Veranstaltungen Verbände
CLASS:PUBLIC
DESCRIPTION:
DTSTART:20250926T180600Z
DTEND:20250928T140000Z
GEO:+50.06778;+8.643227
LOCATION:Frankfurt
ORGANIZER:
SEQUENCE:1
SUMMARY:25 Trainer Fortbildung DSV AB
TRANSP:OPAQUE
URL:https://www.damenschwimmverein.de/verein/termine/95-25-trainer-fortbild
 ung-dsv-ab
END:VEVENT
END:VCALENDAR
