BEGIN:VCALENDAR
VERSION:2.0
PRODID:-//damenschwimmverein//NONSGML kigkonsult.se iCalcreator 2.30.10//
CALSCALE:GREGORIAN
METHOD:PUBLISH
UID:a70a3fbd-85cc-4977-9485-1c69de5faa1b
X-WR-CALNAME:iCagenda
X-WR-CALDESC:Event Management Extension for Joomla!
X-WR-RELCALID:3E26604A-50F4-4449-8B3E-E4F4932D05B5
X-WR-TIMEZONE:UTC
BEGIN:VTIMEZONE
TZID:UTC
END:VTIMEZONE
BEGIN:VEVENT
UID:e186f09c-981f-4679-9a1f-04b306fbf834
DTSTAMP:20260420T154432Z
CATEGORIES:Vereinsveranstaltungen
CLASS:PUBLIC
DESCRIPTION:
DTSTART:20251116T090000Z
DTEND:20251116T170000Z
GEO:+48.173573;+11.551418
LOCATION:
ORGANIZER:
SEQUENCE:1
SUMMARY:25 WASSERSPORTFESTIVAL
TRANSP:OPAQUE
URL:https://www.damenschwimmverein.de/verein/termine/96-25-wassersportfesti
 val
END:VEVENT
END:VCALENDAR
